BEGIN:VCALENDAR
VERSION:2.0
PRODID:-//wp-events-plugin.com//7.2.3.1//EN
TZID:Europe/Berlin
X-WR-TIMEZONE:Europe/Berlin
BEGIN:VEVENT
UID:2@ptg.verdi.mobi
DTSTART;TZID=Europe/Berlin;VALUE=DATE:20250318
DTEND;TZID=Europe/Berlin;VALUE=DATE:20250319
DTSTAMP:20250311T152906Z
URL:https://ptg.verdi.mobi/events/verhandlungsauftakt-fuer-die-tarifverhan
 dlungen-ptg-niedersachsen/
SUMMARY:Verhandlungsauftakt für die Tarifverhandlungen "PTG Niedersachsen"
DESCRIPTION:
CATEGORIES:Verhandlungstermine
END:VEVENT
BEGIN:VTIMEZONE
TZID:Europe/Berlin
X-LIC-LOCATION:Europe/Berlin
BEGIN:STANDARD
DTSTART:20241027T020000
TZOFFSETFROM:+0200
TZOFFSETTO:+0100
TZNAME:CET
END:STANDARD
END:VTIMEZONE
END:VCALENDAR