BEGIN:VCALENDAR
VERSION:2.0
PRODID:-//wp-events-plugin.com//7.2.3.1//EN
TZID:Europe/Berlin
X-WR-TIMEZONE:Europe/Berlin
BEGIN:VEVENT
UID:15@ptg.verdi.mobi
DTSTART;TZID=Europe/Berlin:20260219T000000
DTEND;TZID=Europe/Berlin:20260219T000000
DTSTAMP:20260116T124933Z
URL:https://ptg.verdi.mobi/events/ver-di-tarifkommissionssitzung-ptg-niede
 rsachsen/
SUMMARY:ver.di-Tarifkommissionssitzung PTG Niedersachsen
DESCRIPTION:
END:VEVENT
BEGIN:VTIMEZONE
TZID:Europe/Berlin
X-LIC-LOCATION:Europe/Berlin
BEGIN:STANDARD
DTSTART:20251026T020000
TZOFFSETFROM:+0200
TZOFFSETTO:+0100
TZNAME:CET
END:STANDARD
END:VTIMEZONE
END:VCALENDAR