BEGIN:VCALENDAR
VERSION:2.0
PRODID:-//wp-events-plugin.com//7.2.3.1//EN
TZID:Europe/Berlin
X-WR-TIMEZONE:Europe/Berlin
BEGIN:VEVENT
UID:10@ptg.verdi.mobi
DTSTART;TZID=Europe/Berlin:20260114T000000
DTEND;TZID=Europe/Berlin:20260114T000000
DTSTAMP:20251104T101903Z
URL:https://ptg.verdi.mobi/events/ver-di-tarifkommission-ptg-niedersachsen
 /
SUMMARY:ver.di-Tarifkommission PTG Niedersachsen
DESCRIPTION:
LOCATION:ver.di-Höfe / Rotation\, Goseriede 10\, Hannover\, 30159\, Deutsc
 hland
X-APPLE-STRUCTURED-LOCATION;VALUE=URI;X-ADDRESS=Goseriede 10\, Hannover\, 3
 0159\, Deutschland;X-APPLE-RADIUS=100;X-TITLE=ver.di-Höfe / Rotation:geo:
 0,0
END:VEVENT
BEGIN:VTIMEZONE
TZID:Europe/Berlin
X-LIC-LOCATION:Europe/Berlin
BEGIN:STANDARD
DTSTART:20251026T020000
TZOFFSETFROM:+0200
TZOFFSETTO:+0100
TZNAME:CET
END:STANDARD
END:VTIMEZONE
END:VCALENDAR