BEGIN:VCALENDAR
VERSION:2.0
PRODID:-//wp-events-plugin.com//7.2.3.1//EN
TZID:Europe/Berlin
X-WR-TIMEZONE:Europe/Berlin
BEGIN:VEVENT
UID:11@ptg.verdi.mobi
DTSTART;TZID=Europe/Berlin:20251215T000000
DTEND;TZID=Europe/Berlin:20251215T000000
DTSTAMP:20251104T102028Z
URL:https://ptg.verdi.mobi/events/ptg-uebersendet-ein-arbeitgeberangebot-f
 uer-weitere-tarifverhandlungen/
SUMMARY:PTG übersendet ein Arbeitgeberangebot für weitere Tarifverhandlun
 gen
DESCRIPTION:
END:VEVENT
BEGIN:VTIMEZONE
TZID:Europe/Berlin
X-LIC-LOCATION:Europe/Berlin
BEGIN:STANDARD
DTSTART:20251026T020000
TZOFFSETFROM:+0200
TZOFFSETTO:+0100
TZNAME:CET
END:STANDARD
END:VTIMEZONE
END:VCALENDAR