BEGIN:VCALENDAR
VERSION:2.0
PRODID:-//wp-events-plugin.com//7.2.3.1//EN
TZID:Europe/Berlin
X-WR-TIMEZONE:Europe/Berlin
BEGIN:VEVENT
UID:6@ptg.verdi.mobi
DTSTART;TZID=Europe/Berlin:20251028T170000
DTEND;TZID=Europe/Berlin:20251028T190000
DTSTAMP:20251010T171008Z
URL:https://ptg.verdi.mobi/events/offene-mitgliederversammlung-fuer-ver-di
 -mitglieder-und-ihre-interessierten-kolleginnen/
SUMMARY:offene Mitgliederversammlung für ver.di-Mitglieder und ihre intere
 ssierten Kolleg*innen
DESCRIPTION:diese Versammlung betrifft die PTG-Mitgliedsunternehmen:\n\n
  ambet - Ambulante Betreuung hilfs- und pflegebedürftiger Menschen e.V. \
 n Autismushilfen gGmbH \n Hauspflegevereins Wolfenbüttel e. V.\n\n\
 n\nbei Interesse bitte bei sylvia.milsch@verdi.de oder fb-c.nds-hb@verdi.d
 e melden\n\n\n\n&nbsp\;
END:VEVENT
BEGIN:VTIMEZONE
TZID:Europe/Berlin
X-LIC-LOCATION:Europe/Berlin
BEGIN:STANDARD
DTSTART:20251026T020000
TZOFFSETFROM:+0200
TZOFFSETTO:+0100
TZNAME:CET
END:STANDARD
END:VTIMEZONE
END:VCALENDAR