BEGIN:VCALENDAR
VERSION:2.0
PRODID:-//wp-events-plugin.com//7.2.3.1//EN
TZID:Europe/Berlin
X-WR-TIMEZONE:Europe/Berlin
BEGIN:VEVENT
UID:4@ptg.verdi.mobi
DTSTART;TZID=Europe/Berlin:20250423T170000
DTEND;TZID=Europe/Berlin:20250423T180000
DTSTAMP:20250404T184151Z
URL:https://ptg.verdi.mobi/events/digitales-treffen-der-tarifbotschafterin
 nen/
SUMMARY:Digitales Treffen der Tarifbotschafter*innen
DESCRIPTION:
END:VEVENT
BEGIN:VTIMEZONE
TZID:Europe/Berlin
X-LIC-LOCATION:Europe/Berlin
BEGIN:DAYLIGHT
DTSTART:20250330T030000
TZOFFSETFROM:+0100
TZOFFSETTO:+0200
TZNAME:CEST
END:DAYLIGHT
END:VTIMEZONE
END:VCALENDAR