BEGIN:VCALENDAR
VERSION:2.0
PRODID:-//wp-events-plugin.com//7.2.3.1//EN
TZID:Europe/Berlin
X-WR-TIMEZONE:Europe/Berlin
BEGIN:VEVENT
UID:23@ptg.verdi.mobi
DTSTART;TZID=Europe/Berlin;VALUE=DATE:20260301
DTEND;TZID=Europe/Berlin;VALUE=DATE:20260601
DTSTAMP:20260305T082028Z
URL:https://ptg.verdi.mobi/events/betriebsratswahlen-2026/
SUMMARY:Betriebsratswahlen 2026
DESCRIPTION:\n\nBetriebsratswahlen 2026 – wähl Deine Stimme im Betrieb |
  ver.di
END:VEVENT
BEGIN:VTIMEZONE
TZID:Europe/Berlin
X-LIC-LOCATION:Europe/Berlin
BEGIN:STANDARD
DTSTART:20251026T020000
TZOFFSETFROM:+0200
TZOFFSETTO:+0100
TZNAME:CET
END:STANDARD
BEGIN:DAYLIGHT
DTSTART:20260329T030000
TZOFFSETFROM:+0100
TZOFFSETTO:+0200
TZNAME:CEST
END:DAYLIGHT
END:VTIMEZONE
END:VCALENDAR